Workbook

Sheet 2025-2028
B1: SQUASH VLAANDEREN | F1: Timing | J1: Status uitvoering actie/doelstelling | Q1: Begroting | Y1: Status huidig werkingsjaar 2025 | AA1: Status resultatenrekening
A2: Concat | B2: SD | C2: OD | D2: Actie | E2: Omschrijving | F2: 2025 | G2: 2026 | H2: 2027 | I2: 2028 | J2: 2025 | K2: 2026 | L2: 2027 | M2: 2028 | N2: Indicator | O2: Verantwoordelijke | P2: Analytische code | Q2: kosten 2025 | R2: opbrengsten 2025 | S2: kosten 2026 | T2: opbrengsten 2026 | U2: kosten 2027 | V2: opbrengsten 2027 | W2: kosten 2028 | X2: opbrengsten 2028 | Y2: Kosten | Z2: Opbrengsten | AA2: kosten 2025 | AB2: opbrengsten 2025 | AC2: kosten 2026 | AD2: opbrengsten 2026 | AE2: kosten 2027 | AF2: opbrengsten 2027 | AG2: kosten 2028 | AH2: opbrengsten 2028
A3: =P3 -> 0 | B3: SD1 | E3: Verhoog het ledenaantal van Squash Vlaanderen met 20% tegen 2028 om de zichtbaarheid van de sport, de financiële stabiliteit en de betrokkenheid te verhogen. | Y3: =SUM(Y10+Y7+Y4) -> 79.55 | Z3: =SUM(Z10+Z7+Z4) -> 0
A4: =P4 -> 0 | C4: OD 1.1 | E4: Verhoog het ledenaantal met 5% per jaar door gerichte wervingscampagnes en behoud van leden. | N4: Jaarlijks percentage ledenwinst en percentage ledenbehoud. | O4: TD/STC/ADC, PROVINCIALE COMITES/COMM MARKETING | Y4: =SUM(Y5:Y6) -> 79.55 | Z4: =SUM(Z5:Z6) -> 0
A5: =P5 -> A0012 | D5: 1 | E5: Bezoeken van de clubs | F5: X | H5: X | J5: X | P5: A0012 | Q5: 1000 | R5: 0 | S5: 500 | T5: 0 | U5: 500 | V5: 0 | W5: 500 | X5: 0 | Y5: =IFERROR(VLOOKUP(A5,'Import Bkhd'!$A$1:$L$347,10,FALSE),"€ 0,00") -> 79.55 | Z5: =IFERROR(VLOOKUP(A5,'Import Bkhd'!$A$1:$L$347,11,FALSE),"€ 0,00") -> 0 | AA5: 0 | AB5: 0 | AC5: 0 | AD5: 0 | AE5: 0 | AF5: 0 | AG5: 0 | AH5: 0
A6: =P6 -> 0 | D6: 2 | E6: Online contactmomenten met centrumeigenaars en clubverantwoordelijken | F6: X | G6: X | H6: X | I6: X | J6: X | Q6: 0 | R6: 0 | S6: 0 | T6: 0 | U6: 0 | V6: 0 | W6: 0 | X6: 0 | Y6: =IFERROR(VLOOKUP(A6,'Import Bkhd'!$A$1:$L$347,10,FALSE),"€ 0,00") -> € 0,00 | Z6: =IFERROR(VLOOKUP(A6,'Import Bkhd'!$A$1:$L$347,11,FALSE),"€ 0,00") -> € 0,00 | AA6: 0 | AB6: 0 | AC6: 0 | AD6: 0 | AE6: 0 | AF6: 0 | AG6: 0 | AH6: 0
A7: =P7 -> 0 | C7: OD 1.2 | E7: Verhoog het aantal aangesloten clubs met 8 tegen 2028. | N7: Jaarlijks aantal nieuwe aangesloten clubs en het totale aantal aangesloten clubs. | O7: TD/STC/ADC, COMM MARKETING | Y7: =SUM(Y8:Y9) -> 0 | Z7: =SUM(Z8:Z9) -> 0
A8: =P8 -> A0121 | D8: 3 | E8: Clubbezoeken naar niet-aangesloten leden | G8: X | I8: X | P8: A0121 | Q8: 500 | R8: 0 | S8: 500 | T8: 0 | U8: 500 | V8: 0 | W8: 500 | X8: 0 | Y8: =IFERROR(VLOOKUP(A8,'Import Bkhd'!$A$1:$L$347,10,FALSE),"€ 0,00") -> € 0,00 | Z8: =IFERROR(VLOOKUP(A8,'Import Bkhd'!$A$1:$L$347,11,FALSE),"€ 0,00") -> € 0,00 | AA8: 0 | AB8: 0 | AC8: 0 | AD8: 0 | AE8: 0 | AF8: 0 | AG8: 0 | AH8: 0
A9: =P9 -> 0 | D9: 4 | E9: Contacten leggen met verantwoordelijke binnen steden en gemeente | F9: X | G9: X | H9: X | I9: X | J9: X | Q9: 0 | R9: 0 | S9: 0 | T9: 0 | U9: 0 | V9: 0 | W9: 0 | X9: 0 | Y9: =IFERROR(VLOOKUP(A9,'Import Bkhd'!$A$1:$L$347,10,FALSE),"€ 0,00") -> € 0,00 | Z9: =IFERROR(VLOOKUP(A9,'Import Bkhd'!$A$1:$L$347,11,FALSE),"€ 0,00") -> € 0,00 | AA9: 0 | AB9: 0 | AC9: 0 | AD9: 0 | AE9: 0 | AF9: 0 | AG9: 0 | AH9: 0
A10: =P10 -> 0 | C10: OD 1.3 | E10: Ontwikkel en implementeer ledenwervingscampagnes en versterk samenwerkingen met clubs en centrumeigenaars om het ledenaantal te verhogen en het aantal aangesloten clubs uit te breiden. | N10: Aantal campagnes, aantal samenwerkingsverbanden en het effect van deze acties op de ledenwinst en het aantal aangesloten clubs. | O10: TD/STC/ADC, COMM MARKETING | Y10: =SUM(Y11:Y13) -> 0 | Z10: =SUM(Z11:Z13) -> 0
A11: =P11 -> A0098 | D11: 5 | E11: Return aan de club per aangesloten recreant | F11: X | G11: X | H11: X | I11: X | J11: X | P11: A0098 | Q11: 3500 | R11: 0 | S11: 1000 | T11: 0 | U11: 1000 | V11: 0 | W11: 1000 | X11: 0 | Y11: =IFERROR(VLOOKUP(A11,'Import Bkhd'!$A$1:$L$347,10,FALSE),"€ 0,00") -> € 0,00 | Z11: =IFERROR(VLOOKUP(A11,'Import Bkhd'!$A$1:$L$347,11,FALSE),"€ 0,00") -> € 0,00 | AA11: 0 | AB11: 0 | AC11: 0 | AD11: 0 | AE11: 0 | AF11: 0 | AG11: 0 | AH11: 0
A12: =P12 -> A0067 | D12: 6 | E12: Return aan de provincie voor NIEUW aangesloten leden | F12: X | G12: X | H12: X | I12: X | J12: X | P12: A0067 | Q12: 750 | R12: 0 | S12: 0 | T12: 0 | U12: 0 | V12: 0 | W12: 0 | X12: 0 | Y12: =IFERROR(VLOOKUP(A12,'Import Bkhd'!$A$1:$L$347,10,FALSE),"€ 0,00") -> € 0,00 | Z12: =IFERROR(VLOOKUP(A12,'Import Bkhd'!$A$1:$L$347,11,FALSE),"€ 0,00") -> € 0,00 | AA12: 0 | AB12: 0 | AC12: 0 | AD12: 0 | AE12: 0 | AF12: 0 | AG12: 0 | AH12: 0
A13: =P13 -> A0141 | D13: 7 | E13: Club belonen met Squash club van het jaar | F13: X | G13: X | H13: X | I13: X | J13: X | P13: A0141 | Q13: 1000 | R13: 0 | S13: 0 | T13: 0 | U13: 0 | V13: 0 | W13: 0 | X13: 0 | Y13: =IFERROR(VLOOKUP(A13,'Import Bkhd'!$A$1:$L$347,10,FALSE),"€ 0,00") -> € 0,00 | Z13: =IFERROR(VLOOKUP(A13,'Import Bkhd'!$A$1:$L$347,11,FALSE),"€ 0,00") -> € 0,00 | AA13: 0 | AB13: 0 | AC13: 0 | AD13: 0 | AE13: 0 | AF13: 0 | AG13: 0 | AH13: 0
A14: =P14 -> 0 | B14: SD2 | E14: Verhoog de promotionele activiteiten van squash in Vlaanderen tegen 2028 om de bekendheid en deelname aan de sport te vergroten, en een breder publiek te bereiken. | Y14: =SUM(Y15+Y20) -> 641.75 | Z14: =SUM(Z15+Z20) -> 0
A15: =P15 -> 0 | C15: OD 2.1 | E15: Organiseer jaarlijks minimaal 5 zichtbaarheidscampagnes en evenementen in samenwerking met clubs en gemeenten om de bekendheid van squash te vergroten en deelname te bevorderen. | N15: Aantal campagnes en evenementen per jaar, en het effect op de bekendheid en deelname. | O15: TD/STC/ADC/OCC MW | Y15: =SUM(Y16:Y19) -> 641.75 | Z15: =SUM(Z16:Z19) -> 0
A16: =P16 -> A0122 | D16: 8 | E16: Deelname zomertour | F16: X | G16: X | H16: X | I16: X | J16: X | P16: A0122 | Q16: 500 | R16: 0 | S16: 1000 | T16: 0 | U16: 1000 | V16: 0 | W16: 1000 | X16: 0 | Y16: =IFERROR(VLOOKUP(A16,'Import Bkhd'!$A$1:$L$347,10,FALSE),"€ 0,00") -> 141.75 | Z16: =IFERROR(VLOOKUP(A16,'Import Bkhd'!$A$1:$L$347,11,FALSE),"€ 0,00") -> 0 | AA16: 0 | AB16: 0 | AC16: 0 | AD16: 0 | AE16: 0 | AF16: 0 | AG16: 0 | AH16: 0
A17: =P17 -> A0123 | D17: 9 | E17: Deelname sportfestivals | F17: X | G17: X | H17: X | I17: X | J17: X | P17: A0123 | Q17: 200 | R17: 0 | S17: 150 | T17: 0 | U17: 150 | V17: 0 | W17: 150 | X17: 0 | Y17: =IFERROR(VLOOKUP(A17,'Import Bkhd'!$A$1:$L$347,10,FALSE),"€ 0,00") -> € 0,00 | Z17: =IFERROR(VLOOKUP(A17,'Import Bkhd'!$A$1:$L$347,11,FALSE),"€ 0,00") -> € 0,00 | AA17: 0 | AB17: 0 | AC17: 0 | AD17: 0 | AE17: 0 | AF17: 0 | AG17: 0 | AH17: 0
A18: =P18 -> A0124 | D18: 10 | E18: Deelname dag van de trainer | F18: X | G18: X | H18: X | I18: X | J18: X | P18: A0124 | Q18: 150 | R18: 0 | S18: 150 | T18: 0 | U18: 150 | V18: 0 | W18: 150 | X18: 0 | Y18: =IFERROR(VLOOKUP(A18,'Import Bkhd'!$A$1:$L$347,10,FALSE),"€ 0,00") -> € 0,00 | Z18: =IFERROR(VLOOKUP(A18,'Import Bkhd'!$A$1:$L$347,11,FALSE),"€ 0,00") -> € 0,00 | AA18: 0 | AB18: 0 | AC18: 0 | AD18: 0 | AE18: 0 | AF18: 0 | AG18: 0 | AH18: 0
A19: =P19 -> A0125 | D19: 11 | E19: Deelname aan sportbeurzen in samenwerking met clubs | F19: X | G19: X | H19: X | I19: X | J19: X | P19: A0125 | Q19: 150 | R19: 0 | S19: 1200 | T19: 0 | U19: 1200 | V19: 0 | W19: 1200 | X19: 0 | Y19: =IFERROR(VLOOKUP(A19,'Import Bkhd'!$A$1:$L$347,10,FALSE),"€ 0,00") -> 500 | Z19: =IFERROR(VLOOKUP(A19,'Import Bkhd'!$A$1:$L$347,11,FALSE),"€ 0,00") -> 0 | AA19: 0 | AB19: 0 | AC19: 0 | AD19: 0 | AE19: 0 | AF19: 0 | AG19: 0 | AH19: 0
A20: =P20 -> 0 | C20: OD 2.2 | E20: Verhoog de media-aandacht voor squash door samen te werken met minimaal 3 mediapartners tegen 2028 en door regelmatig persberichten en artikelen te publiceren. | N20: Aantal mediapartners, aantal persberichten en artikelen gepubliceerd, en de gemeten media-aandacht. | O20: TD/STC/ADC | Y20: =SUM(Y21:Y22) -> 0 | Z20: =SUM(Z21:Z22) -> 0
A21: =P21 -> 0 | D21: 12 | E21: Aankondigen van events via mailing aan perscontacten | F21: X | G21: X | H21: X | I21: X | J21: X | Q21: 0 | R21: 0 | S21: 0 | T21: 0 | U21: 0 | V21: 0 | W21: 0 | X21: 0 | Y21: =IFERROR(VLOOKUP(A21,'Import Bkhd'!$A$1:$L$347,10,FALSE),"€ 0,00") -> € 0,00 | Z21: =IFERROR(VLOOKUP(A21,'Import Bkhd'!$A$1:$L$347,11,FALSE),"€ 0,00") -> € 0,00 | AA21: 0 | AB21: 0 | AC21: 0 | AD21: 0 | AE21: 0 | AF21: 0 | AG21: 0 | AH21: 0
A22: =P22 -> 0 | D22: 13 | E22: Contacten Sporza optimaliseren | F22: X | G22: X | H22: X | I22: X | J22: X | Q22: 0 | R22: 0 | S22: 0 | T22: 0 | U22: 0 | V22: 0 | W22: 0 | X22: 0 | Y22: =IFERROR(VLOOKUP(A22,'Import Bkhd'!$A$1:$L$347,10,FALSE),"€ 0,00") -> € 0,00 | Z22: =IFERROR(VLOOKUP(A22,'Import Bkhd'!$A$1:$L$347,11,FALSE),"€ 0,00") -> € 0,00 | AA22: 0 | AB22: 0 | AC22: 0 | AD22: 0 | AE22: 0 | AF22: 0 | AG22: 0 | AH22: 0
A23: =P23 -> 0 | B23: SD3 | E23: Verhoog het gebruik van de minisquashcourt op scholen met 50% tegen 2028 om jeugdbetrokkenheid bij squash te bevorderen en de basis voor toekomstige groei van de sport te leggen. | Y23: =SUM(Y24) -> 0 | Z23: =SUM(Z24) -> 0
A24: =P24 -> 0 | C24: OD 3.1 | E24: Implementeer een lesplan voor het promoten van squash op scholen, gericht op het bereiken van ten minste 50 scholen per jaar om de bekendheid met en interesse in squash onder jongeren te vergroten. | N24: Aantal bereikte scholen per jaar, en de toename van het gebruik van minisquashcourts. | O24: OCC MW | Y24: =SUM(Y25) -> 0 | Z24: =SUM(Z25) -> 0
A25: =P25 -> A0126 | D25: 14 | E25: Uitvoeren van schoolbezoeken in samenwerking met clubs | F25: X | G25: X | H25: X | I25: X | J25: X | P25: A0126 | Q25: 1000 | R25: 0 | S25: 500 | T25: 0 | U25: 500 | V25: 0 | W25: 500 | X25: 0 | Y25: =IFERROR(VLOOKUP(A25,'Import Bkhd'!$A$1:$L$347,10,FALSE),"€ 0,00") -> € 0,00 | Z25: =IFERROR(VLOOKUP(A25,'Import Bkhd'!$A$1:$L$347,11,FALSE),"€ 0,00") -> € 0,00 | AA25: 0 | AB25: 0 | AC25: 0 | AD25: 0 | AE25: 0 | AF25: 0 | AG25: 0 | AH25: 0
A26: =P26 -> 0 | B26: SD4 | E26: Verhoog het aantal gekwalificeerde jeugdtrainers en referees met 10% tegen 2028 om de kwaliteit van de jeugdtrainingen en scheidsrechters van squash te verbeteren. | Y26: =SUM(Y27+Y32) -> 100 | Z26: =SUM(Z27+Z32) -> 0
A27: =P27 -> 0 | C27: OD 4.1 | E27: Verhoog het aantal actieve jeugdtrainers met 2,5% per jaar door het aanbieden van opleidingen en het faciliteren van de overgang naar actieve trainingsrollen binnen clubs. | N27: Aantal nieuwe gekwalificeerde jeugdtrainers die actief worden binnen het jaar. | O27: STC | Y27: =SUM(Y28:Y31) -> 0 | Z27: =SUM(Z28:Z31) -> 0
A28: =P28 -> A0127 | D28: 15 | E28: Aanbieden van een cursus start to coach in samenwerking met de Vlaamse Trainersschool. | F28: X | G28: X | J28: X | P28: A0127 | Q28: 100 | R28: 0 | S28: 150 | T28: 0 | U28: 150 | V28: 0 | W28: 150 | X28: 0 | Y28: =IFERROR(VLOOKUP(A28,'Import Bkhd'!$A$1:$L$347,10,FALSE),"€ 0,00") -> € 0,00 | Z28: =IFERROR(VLOOKUP(A28,'Import Bkhd'!$A$1:$L$347,11,FALSE),"€ 0,00") -> € 0,00 | AA28: 0 | AB28: 0 | AC28: 0 | AD28: 0 | AE28: 0 | AF28: 0 | AG28: 0 | AH28: 0
A29: =P29 -> A0128 | D29: 16 | E29: Aanbieden van een initiatorcursus in samenwerken met de Vlaamse Trainersschool | H29: X | I29: X | P29: A0128 | Q29: 100 | R29: 0 | S29: 100 | T29: 0 | U29: 100 | V29: 0 | W29: 100 | X29: 0 | Y29: =IFERROR(VLOOKUP(A29,'Import Bkhd'!$A$1:$L$347,10,FALSE),"€ 0,00") -> € 0,00 | Z29: =IFERROR(VLOOKUP(A29,'Import Bkhd'!$A$1:$L$347,11,FALSE),"€ 0,00") -> € 0,00 | AA29: 0 | AB29: 0 | AC29: 0 | AD29: 0 | AE29: 0 | AF29: 0 | AG29: 0 | AH29: 0
A30: =P30 -> 0 | D30: 17 | E30: Contactmomenten met coaches tijdens stagedagen | F30: X | G30: X | H30: X | I30: X | J30: X | Q30: 0 | R30: 0 | S30: 0 | T30: 0 | U30: 0 | V30: 0 | W30: 0 | X30: 0 | Y30: =IFERROR(VLOOKUP(A30,'Import Bkhd'!$A$1:$L$347,10,FALSE),"€ 0,00") -> € 0,00 | Z30: =IFERROR(VLOOKUP(A30,'Import Bkhd'!$A$1:$L$347,11,FALSE),"€ 0,00") -> € 0,00 | AA30: 0 | AB30: 0 | AC30: 0 | AD30: 0 | AE30: 0 | AF30: 0 | AG30: 0 | AH30: 0
A31: =P31 -> 0 | D31: 18 | E31: Uitwerken van een cursus instructeur | F31: X | G31: X | J31: X | Q31: 0 | R31: 0 | S31: 0 | T31: 0 | U31: 0 | V31: 0 | W31: 0 | X31: 0 | Y31: =IFERROR(VLOOKUP(A31,'Import Bkhd'!$A$1:$L$347,10,FALSE),"€ 0,00") -> € 0,00 | Z31: =IFERROR(VLOOKUP(A31,'Import Bkhd'!$A$1:$L$347,11,FALSE),"€ 0,00") -> € 0,00 | AA31: 0 | AB31: 0 | AC31: 0 | AD31: 0 | AE31: 0 | AF31: 0 | AG31: 0 | AH31: 0
A32: =P32 -> 0 | C32: OD 4.2 | E32: Verhoog het aantal gekwalificeerde referees door het jaarlijks organiseren van clinics. | N32: Aantal deelnemers aan clinics die daadwerkelijk een refereediploma behalen. | O32: STC / COMM REFEREE | Y32: =SUM(Y33:Y35) -> 100 | Z32: =SUM(Z33:Z35) -> 0
A33: =P33 -> A0130 | D33: 19 | E33: Organiseren van spelregelavond | F33: X | G33: X | H33: X | I33: X | J33: X | P33: A0130 | Q33: 250 | R33: 0 | S33: 250 | T33: 0 | U33: 250 | V33: 0 | W33: 250 | X33: 0 | Y33: =IFERROR(VLOOKUP(A33,'Import Bkhd'!$A$1:$L$347,10,FALSE),"€ 0,00") -> 100 | Z33: =IFERROR(VLOOKUP(A33,'Import Bkhd'!$A$1:$L$347,11,FALSE),"€ 0,00") -> 0 | AA33: 0 | AB33: 0 | AC33: 0 | AD33: 0 | AE33: 0 | AF33: 0 | AG33: 0 | AH33: 0
A34: =P34 -> A0131 | D34: 20 | E34: Organiseren refereecursus level 2 | G34: X | I34: X | P34: A0131 | Q34: 250 | R34: 0 | S34: 250 | T34: 0 | U34: 250 | V34: 0 | W34: 250 | X34: 0 | Y34: =IFERROR(VLOOKUP(A34,'Import Bkhd'!$A$1:$L$347,10,FALSE),"€ 0,00") -> € 0,00 | Z34: =IFERROR(VLOOKUP(A34,'Import Bkhd'!$A$1:$L$347,11,FALSE),"€ 0,00") -> € 0,00 | AA34: 0 | AB34: 0 | AC34: 0 | AD34: 0 | AE34: 0 | AF34: 0 | AG34: 0 | AH34: 0
A35: =P35 -> A0132 | D35: 21 | E35: Organiseren van een internationale refereeclinic | H35: X | P35: A0132 | Q35: 0 | R35: 0 | S35: 0 | T35: 0 | U35: 0 | V35: 0 | W35: 0 | X35: 0 | Y35: =IFERROR(VLOOKUP(A35,'Import Bkhd'!$A$1:$L$347,10,FALSE),"€ 0,00") -> € 0,00 | Z35: =IFERROR(VLOOKUP(A35,'Import Bkhd'!$A$1:$L$347,11,FALSE),"€ 0,00") -> € 0,00 | AA35: 0 | AB35: 0 | AC35: 0 | AD35: 0 | AE35: 0 | AF35: 0 | AG35: 0 | AH35: 0
A36: =P36 -> 0 | B36: SD5 | E36: Verhoog de tevredenheid van clubs, centrumeigenaars en spelers over de dienstverlening van Squash Vlaanderen met 10% tegen 2028, door het verbeteren van ondersteuning en diensten. | Y36: =SUM(Y37+Y43+Y47+Y49) -> 18515.71 | Z36: =SUM(Z37+Z43+Z47+Z49) -> 1532.82
A37: =P37 -> 0 | C37: OD 5.1 | E37: Organiseer jaarlijks competities, toernooien en kampioenschappen die gericht zijn op het verbeteren van de spelervaring en de tevredenheid. | N37: Toename in deelnemersaantallen en tevredenheidsscores van deelnemers. | O37: STC/ADC/OCC MW, COMM JEUGD, COMM SPORT | Y37: =SUM(Y38:Y42) -> 6953.07 | Z37: =SUM(Z38:Z42) -> 1532.82
A38: =P38 -> A0005 | D38: 22 | E38: Organiseren van competitie | F38: X | G38: X | H38: X | I38: X | J38: X | P38: A0005 | Q38: 4500 | R38: 0 | S38: 4250 | T38: 0 | U38: 4250 | V38: 0 | W38: 4250 | X38: 0 | Y38: =IFERROR(VLOOKUP(A38,'Import Bkhd'!$A$1:$L$347,10,FALSE),"€ 0,00") -> 890.95 | Z38: =IFERROR(VLOOKUP(A38,'Import Bkhd'!$A$1:$L$347,11,FALSE),"€ 0,00") -> 0 | AA38: 0 | AB38: 0 | AC38: 0 | AD38: 0 | AE38: 0 | AF38: 0 | AG38: 0 | AH38: 0
A39: =P39 -> A0133 | D39: 23 | E39: Organiseren van tornooien | F39: X | G39: X | H39: X | I39: X | J39: X | P39: A0133 | Q39: 3500 | R39: 4000 | S39: 3500 | T39: 4000 | U39: 3500 | V39: 4000 | W39: 3500 | X39: 4000 | Y39: =IFERROR(VLOOKUP(A39,'Import Bkhd'!$A$1:$L$347,10,FALSE),"€ 0,00") -> 2736.12 | Z39: =IFERROR(VLOOKUP(A39,'Import Bkhd'!$A$1:$L$347,11,FALSE),"€ 0,00") -> 1208.82 | AA39: 0 | AB39: 0 | AC39: 0 | AD39: 0 | AE39: 0 | AF39: 0 | AG39: 0 | AH39: 0
A40: =P40 -> A0004 | D40: 24 | E40: Onderhouden van een ranking | F40: X | G40: X | H40: X | I40: X | J40: X | P40: A0004 | Q40: 1300 | R40: 0 | S40: 1300 | T40: 0 | U40: 1300 | V40: 0 | W40: 1300 | X40: 0 | Y40: =IFERROR(VLOOKUP(A40,'Import Bkhd'!$A$1:$L$347,10,FALSE),"€ 0,00") -> 1443 | Z40: =IFERROR(VLOOKUP(A40,'Import Bkhd'!$A$1:$L$347,11,FALSE),"€ 0,00") -> 0 | AA40: 0 | AB40: 0 | AC40: 0 | AD40: 0 | AE40: 0 | AF40: 0 | AG40: 0 | AH40: 0
...

Sheet Import Bkhd
A1: concat | B1: Nummer | C1: Omschrijving | D1: Vorige P-DEBET | E1: Vorige P -CREDIT | F1: Huidige P - DEBET | G1: Huidige P - CREDIT | H1: Huidige P - Saldo | I1: Lege kolom | J1: TOT DEBET | K1: TOT CREDIT | L1: TOT Saldo
A2: =B2 -> A0001 | B2: A0001 | C2: Organiseren van activiteiten | D2: 148.8 | E2: 148.8 | F2: 0 | G2: 0 | H2: 0 | J2: =D2+F2 -> 148.8 | K2: =E2+G2 -> 148.8 | L2: =J2-K2 -> 0
A3: =B3 -> A0004 | B3: A0004 | C3: Onderhoud van de ranking | D3: 1443 | E3: 0 | F3: 0 | G3: 0 | H3: 1443 | J3: =D3+F3 -> 1443 | K3: =E3+G3 -> 0 | L3: =J3-K3 -> 1443
A4: =B4 -> A0005 | B4: A0005 | C4: Org. van competie | D4: 560.95 | E4: 0 | F4: 330 | G4: 0 | H4: 890.95 | J4: =D4+F4 -> 890.95 | K4: =E4+G4 -> 0 | L4: =J4-K4 -> 890.95
A5: =B5 -> A0006 | B5: A0006 | C5: Deelname Europese tornooien | D5: 10532.2 | E5: 0 | F5: 2525.47 | G5: 10.02 | H5: 13047.65 | J5: =D5+F5 -> 13057.67 | K5: =E5+G5 -> 10.02 | L5: =J5-K5 -> 13047.65
A6: =B6 -> A0008 | B6: A0008 | C6: Org. van clinics/cursussen | D6: 1405.98 | E6: 521 | F6: 0 | G6: 0 | H6: 884.98 | J6: =D6+F6 -> 1405.98 | K6: =E6+G6 -> 521 | L6: =J6-K6 -> 884.98
A7: =B7 -> A0012 | B7: A0012 | C7: Persoonlijk bezoek aan de club | D7: 79.55 | E7: 0 | F7: 0 | G7: 0 | H7: 79.55 | J7: =D7+F7 -> 79.55 | K7: =E7+G7 -> 0 | L7: =J7-K7 -> 79.55
A8: =B8 -> A0015 | B8: A0015 | C8: Website | D8: 374.85 | E8: 0 | F8: 0 | G8: 0 | H8: 374.85 | J8: =D8+F8 -> 374.85 | K8: =E8+G8 -> 0 | L8: =J8-K8 -> 374.85
A9: =B9 -> A0025 | B9: A0025 | C9: Spelersdatabase onderhouden | D9: 9762.64 | E9: 0 | F9: 0 | G9: 0 | H9: 9762.64 | J9: =D9+F9 -> 9762.64 | K9: =E9+G9 -> 0 | L9: =J9-K9 -> 9762.64
A10: =B10 -> A0028 | B10: A0028 | C10: Promotie BF jeugdsport | D10: 1252.74 | E10: 0 | F10: 150.56 | G10: 0 | H10: 1403.3 | J10: =D10+F10 -> 1403.3 | K10: =E10+G10 -> 0 | L10: =J10-K10 -> 1403.3
A11: =B11 -> A0029 | B11: A0029 | C11: Brutoloon personeel | D11: 111379.58 | E11: 0 | F11: 63732.33 | G11: 21343.61 | H11: 153768.3 | J11: =D11+F11 -> 175111.91 | K11: =E11+G11 -> 21343.61 | L11: =J11-K11 -> 153768.3
A12: =B12 -> A0030 | B12: A0030 | C12: RSZ werkgever | D12: 29886.53 | E12: 0 | F12: 13144.01 | G12: 39.78 | H12: 42990.76 | J12: =D12+F12 -> 43030.54 | K12: =E12+G12 -> 39.78 | L12: =J12-K12 -> 42990.76
A13: =B13 -> A0031 | B13: A0031 | C13: Woon-werk verplaatsingen | D13: 1477.6 | E13: 0 | F13: 567.14 | G13: 0 | H13: 2044.74 | J13: =D13+F13 -> 2044.74 | K13: =E13+G13 -> 0 | L13: =J13-K13 -> 2044.74
... A68: =B68 -> A0137 | B68: A0137 | C68: Organisatie jeugdtornooien | D68: 1554.06 | E68: 1872.13 | F68: 476 | G68: 0 | H68: 157.93 | J68: =D68+F68 -> 2030.06 | K68: =E68+G68 -> 1872.13 | L68: =J68-K68 -> 157.93
J69: =D69+F69 -> 0 | K69: =E69+G69 -> 0 | L69: =J69-K69 -> 0
J70: =D70+F70 -> 0 | K70: =E70+G70 -> 0 | L70: =J70-K70 -> 0
J71: =D71+F71 -> 0 | K71: =E71+G71 -> 0 | L71: =J71-K71 -> 0
J72: =D72+F72 -> 0 | K72: =E72+G72 -> 0 | L72: =J72-K72 -> 0
J73: =D73+F73 -> 0 | K73: =E73+G73 -> 0 | L73: =J73-K73 -> 0
J74: =D74+F74 -> 0 | K74: =E74+G74 -> 0 | L74: =J74-K74 -> 0
J75: =D75+F75 -> 0 | K75: =E75+G75 -> 0 | L75: =J75-K75 -> 0
J76: =D76+F76 -> 0 | K76: =E76+G76 -> 0 | L76: =J76-K76 -> 0
J77: =D77+F77 -> 0 | K77: =E77+G77 -> 0 | L77: =J77-K77 -> 0
J78: =D78+F78 -> 0 | K78: =E78+G78 -> 0 | L78: =J78-K78 -> 0
J79: =D79+F79 -> 0 | K79: =E79+G79 -> 0 | L79: =J79-K79 -> 0
J80: =D80+F80 -> 0 | K80: =E80+G80 -> 0 | L80: =J80-K80 -> 0
... J90: =D90+F90 -> 0 | K90: =E90+G90 -> 0 | L90: =J90-K90 -> 0

Sheet Analytische rekeningen
A1: Proef- en saldibalans analytische rekeningen
A2: Dossier: VSF17
A3: Van boekjaar: 2025 | E3: Van periode: 1 01/01/2025 - 31/03/2025
A4: Tot boekjaar: 2025 | E4: Tot periode: 4 01/10/2025 - 31/12/2025
C5: Vorige periodes | E5: Huidige periode | G5: Saldo | I5: TOTAAL | K5: Saldo
A6: Nummer | B6: Omschrijving | C6: DEBET | D6: CREDIT | E6: DEBET | F6: CREDIT | I6: DEBET | J6: CREDIT
A7: A0001 | B7: Organiseren van activiteiten | C7: 148.8 | D7: 148.8 | E7: 0 | F7: 0 | G7: 0 | I7: =C7+E7 -> 148.8 | J7: =D7+F7 -> 148.8 | K7: =I7-J7 -> 0
A8: A0004 | B8: Onderhoud van de ranking | C8: 1443 | D8: 0 | E8: 0 | F8: 0 | G8: 1443 | I8: =C8+E8 -> 1443 | J8: =D8+F8 -> 0 | K8: =I8-J8 -> 1443
A9: A0005 | B9: Org. van competie | C9: 560.95 | D9: 0 | E9: 330 | F9: 0 | G9: 890.95 | I9: =C9+E9 -> 890.95 | J9: =D9+F9 -> 0 | K9: =I9-J9 -> 890.95
A10: A0006 | B10: Deelname Europese tornooien | C10: 10532.2 | D10: 0 | E10: 2525.47 | F10: 10.02 | G10: 13047.65 | I10: =C10+E10 -> 13057.67 | J10: =D10+F10 -> 10.02 | K10: =I10-J10 -> 13047.65
A11: A0008 | B11: Org. van clinics/cursussen | C11: 1405.98 | D11: 521 | E11: 0 | F11: 0 | G11: 884.98 | I11: =C11+E11 -> 1405.98 | J11: =D11+F11 -> 521 | K11: =I11-J11 -> 884.98
A12: A0012 | B12: Persoonlijk bezoek aan de club | C12: 79.55 | D12: 0 | E12: 0 | F12: 0 | G12: 79.55 | I12: =C12+E12 -> 79.55 | J12: =D12+F12 -> 0 | K12: =I12-J12 -> 79.55
A13: A0015 | B13: Website | C13: 374.85 | D13: 0 | E13: 0 | F13: 0 | G13: 374.85 | I13: =C13+E13 -> 374.85 | J13: =D13+F13 -> 0 | K13: =I13-J13 -> 374.85
A14: A0025 | B14: Spelersdatabase onderhouden | C14: 9762.64 | D14: 0 | E14: 0 | F14: 0 | G14: 9762.64 | I14: =C14+E14 -> 9762.64 | J14: =D14+F14 -> 0 | K14: =I14-J14 -> 9762.64
A15: A0028 | B15: Promotie BF jeugdsport | C15: 1252.74 | D15: 0 | E15: 150.56 | F15: 0 | G15: 1403.3 | I15: =C15+E15 -> 1403.3 | J15: =D15+F15 -> 0 | K15: =I15-J15 -> 1403.3
A16: A0029 | B16: Brutoloon personeel | C16: 111379.58 | D16: 0 | E16: 63732.33 | F16: 21343.61 | G16: 153768.3 | I16: =C16+E16 -> 175111.91 | J16: =D16+F16 -> 21343.61 | K16: =I16-J16 -> 153768.3
A17: A0030 | B17: RSZ werkgever | C17: 29886.53 | D17: 0 | E17: 13144.01 | F17: 39.78 | G17: 42990.76 | I17: =C17+E17 -> 43030.54 | J17: =D17+F17 -> 39.78 | K17: =I17-J17 -> 42990.76
A18: A0031 | B18: Woon-werk verplaatsingen | C18: 1477.6 | D18: 0 | E18: 567.14 | F18: 0 | G18: 2044.74 | I18: =C18+E18 -> 2044.74 | J18: =D18+F18 -> 0 | K18: =I18-J18 -> 2044.74
... A73: A0137 | B73: Organisatie jeugdtornooien | C73: 1554.06 | D73: 1872.13 | E73: 476 | F73: 0 | G73: 157.93 | I73: =C73+E73 -> 2030.06 | J73: =D73+F73 -> 1872.13 | K73: =I73-J73 -> 157.93
C74: =SUM(C7:C73) -> 238439.49 | D74: =SUM(D7:D73) -> 324059.31 | E74: =SUM(E7:E73) -> 326065.28 | F74: =SUM(F7:F73) -> 224808.75 | G74: =SUM(G7:G73) -> 15636.71 | I74: =SUM(I7:I73) -> 564504.77 | J74: =SUM(J7:J73) -> 548868.06 | K74: =SUM(K7:K73) -> 15636.71

Sheet Analytische rekeningen (2)
A1: Proef- en saldibalans analytische rekeningen
A2: Dossier: VSF17
A3: Van boekjaar: 2025
A4: Tot boekjaar: 2025
C5: TOTAAL
A6: Nummer | B6: Omschrijving | C6: DEBET | D6: CREDIT
A7: A0004 | B7: Onderhoud van de ranking | C7: 1443 | D7: 0
A8: A0005 | B8: Org. van competie | C8: 10.95 | D8: 0
A9: A0006 | B9: Deelname Europese tornooien | C9: 10532.2 | D9: 0
A10: A0008 | B10: Org. van clinics/cursussen | C10: 911.98 | D10: 236
A11: A0012 | B11: Persoonlijk bezoek aan de club | C11: 79.55 | D11: 0
A12: A0015 | B12: Website | C12: 374.85 | D12: 0
A13: A0025 | B13: Spelersdatabase onderhouden | C13: 9762.64 | D13: 0
A14: A0028 | B14: Promotie BF jeugdsport | C14: 636.55 | D14: 0
A15: A0029 | B15: Brutoloon personeel | C15: 48447.56 | D15: 0
A16: A0030 | B16: RSZ werkgever | C16: 13049.93 | D16: 0
A17: A0031 | B17: Woon-werk verplaatsingen | C17: 752.12 | D17: 0
A18: A0032 | B18: Verplaatsingskosten | C18: 687.28 | D18: 0
... A57: A0137 | B57: Organisatie jeugdtornooien | C57: 1354.06 | D57: 1485.63
B58: Totaal | C58: 129970.96 | D58: 244885.63
